BEGIN:VCALENDAR
VERSION:2.0
PRODID:-//TESS event kalender - ECPv5.14.1//NONSGML v1.0//EN
CALSCALE:GREGORIAN
METHOD:PUBLISH
X-WR-CALNAME:TESS event kalender
X-ORIGINAL-URL:http://3.122.204.252
X-WR-CALDESC:Arrangementer for TESS event kalender
REFRESH-INTERVAL;VALUE=DURATION:PT1H
X-Robots-Tag:noindex
X-PUBLISHED-TTL:PT1H
BEGIN:VTIMEZONE
TZID:UTC
BEGIN:STANDARD
TZOFFSETFROM:+0000
TZOFFSETTO:+0000
TZNAME:UTC
DTSTART:20220101T000000
END:STANDARD
END:VTIMEZONE
BEGIN:VEVENT
DTSTART;VALUE=DATE:20220421
DTEND;VALUE=DATE:20220423
DTSTAMP:20260421T212944
CREATED:20220421T122535Z
LAST-MODIFIED:20220421T122535Z
UID:5-1650499200-1650671999@3.122.204.252
SUMMARY:Industrienes motemesse
DESCRIPTION:Den populære messen skulle egentlig vært avhold 23.-24. mars i Telenor Arena på Fornebu. Fra tidligere har messen vært utsatt ved to anledninger\, både i 2020 og 2021. \n– Vi er lei oss for at vi nok en gang må utsette messen\, men etter smitteutviklingen den siste tiden har vi dessverre ikke noe valg\, forteller messeansvarlig Eve Åshaug Jacobsen. \n– Alle utstillere vil beholde sin plass og vi fortsetter planleggingen av Industriens Motemesse og Markedsplass.
URL:http://3.122.204.252/event/industrienes-motemesse/
LOCATION:Telenor Arena\, John Strandruds vei 16\,\, Fornebu\, Oslo\, 1360
END:VEVENT
END:VCALENDAR