BEGIN:VCALENDAR
VERSION:2.0
PRODID:-//TESS event kalender - ECPv5.14.1//NONSGML v1.0//EN
CALSCALE:GREGORIAN
METHOD:PUBLISH
X-WR-CALNAME:TESS event kalender
X-ORIGINAL-URL:http://3.122.204.252
X-WR-CALDESC:Arrangementer for TESS event kalender
REFRESH-INTERVAL;VALUE=DURATION:PT1H
X-Robots-Tag:noindex
X-PUBLISHED-TTL:PT1H
BEGIN:VTIMEZONE
TZID:UTC
BEGIN:STANDARD
TZOFFSETFROM:+0000
TZOFFSETTO:+0000
TZNAME:UTC
DTSTART:20220101T000000
END:STANDARD
END:VTIMEZONE
BEGIN:VEVENT
DTSTART;TZID=UTC:20220426T080000
DTEND;TZID=UTC:20220426T170000
DTSTAMP:20260421T195623
CREATED:20220421T124633Z
LAST-MODIFIED:20220421T124633Z
UID:29-1650960000-1650992400@3.122.204.252
SUMMARY:Frokostseminar havbruk
DESCRIPTION:Vi ønsker velkommen til en inspirerende frokost med havbruk i fokus.
URL:http://3.122.204.252/event/frokostseminar-havbruk/
END:VEVENT
END:VCALENDAR